Workbook
Name 団体名: [1]リストシート!$B$2:$B$69

Sheet 申込み表紙
A1: 第７０回盛岡市民体育大会剣道競技
A2: 参加申込書【表紙】
A4: 団体名 | H4: =IF(C4="","",VLOOKUP(C4,[1]リストシート!$B$2:$C$66,2,FALSE))
A6: 申込内容（必須）
A7: チーム数、参加人数について記入してください
A8: （団体戦チーム数） | D8: （団体戦参加人数） | F8: （個人戦のみ出場の選手人数）
A9: 小学生 | C9: チーム | E9: 人 | F9: ４年以下 | H9: 人
E10: 人 | F10: ５年以上 | H10: 人
A11: 中学生男子 | C11: チーム | E11: 人 | H11: 人
A12: 中学生女子 | C12: チーム | E12: 人 | H12: 人
A13: 高校生男子 | C13: チーム | E13: 人 | H13: 人
A14: 高校生女子 | C14: チーム | E14: 人 | H14: 人
A15: 一般男子 | C15: チーム | E15: 人 | H15: 人
A16: 一般女子 | C16: チーム | E16: 人 | H16: 人
A18: 補助員協力
A19: 補助員に協力していただける方がいらっしゃる場合、以下に協力していただける方の氏名を記入ください。
A20: ２名にて交代しながら行う場合は、（２）欄にも記載ください。
B21: 氏名(姓・名の間のスペースは不要) | F21: 学生の場合学年を記載
A22: (1)
A23: (2)
A25: 申込責任者（必須）
A26: 申込内容について確認する場合があります。E-mail/電話番号（携帯含む）について正確にご記入ください。
B27: （フリガナ）
B28: 氏名 | H28: 姓・名の間のスペースは不要です
B29: e-mail | H29: 正確に記入してください
B30: 電話 | H30: 日中連絡のつく電話を記入してください
A32: このシート（表紙）は、必ず提出してください。

Sheet 小学生 (1)
F1: =申込み表紙!A1 -> 第７０回盛岡市民体育大会剣道競技
F2: 参加申込書
B4: 出場部門 | F4: 小学生 | J4: チーム名 | AB4: 監督
B7: ＜団体戦＞
Y9: 学 年 | AC9: 性 別 | AG9: 個人戦
B10: 先 鋒 | E10: ふりがな | L10: =PHONETIC(E11) | AL10: 1 | AM10: ○
AL11: 2
AL12: 3
AL13: 4
B14: 次 鋒 | E14: ふりがな | L14: =PHONETIC(E15) | AL14: 5
AL15: 6
AL17: 男
B18: 中 堅 | E18: ふりがな | L18: =PHONETIC(E19) | AL18: 女
B22: 副 将 | E22: ふりがな | L22: =PHONETIC(E23)
B26: 大 将 | E26: ふりがな | L26: =PHONETIC(E27)
B30: 補 員 | E30: ふりがな | L30: =PHONETIC(E31)
B34: ※ 団体戦･個人戦ともに出場する選手は、個人戦の欄に○印を記入してください
B36: ＜個人戦のみ参加＞
B38: ４年生以下 | E38: 氏 名 | Y38: 学 年 | AC38: 性 別
E39: ふりがな | L39: =PHONETIC(E40)
E43: ふりがな | L43: =PHONETIC(E44)
B48: ５年生以上 | E48: 氏 名 | Y48: 学 年 | AC48: 性 別
E49: ふりがな | L49: =PHONETIC(E50)
E53: ふりがな | L53: =PHONETIC(E54)
G58: オーダー表の作成 | N58: 希望する | W58: 希望しない

Sheet 小学生 (2)
F1: =申込み表紙!A1 -> 第７０回盛岡市民体育大会剣道競技
F2: 参加申込書
B4: 出場部門 | F4: 小学生 | J4: チーム名 | AB4: 監督
B7: ＜団体戦＞
Y9: 学 年 | AC9: 性 別 | AG9: 個人戦
B10: 先 鋒 | E10: ふりがな | L10: =PHONETIC(E11) | AL10: 1 | AM10: ○
AL11: 2
AL12: 3
AL13: 4
B14: 次 鋒 | E14: ふりがな | L14: =PHONETIC(E15) | AL14: 5
AL15: 6
AL17: 男
B18: 中 堅 | E18: ふりがな | L18: =PHONETIC(E19) | AL18: 女
B22: 副 将 | E22: ふりがな | L22: =PHONETIC(E23)
B26: 大 将 | E26: ふりがな | L26: =PHONETIC(E27)
B30: 補 員 | E30: ふりがな | L30: =PHONETIC(E31)
B34: ※ 団体戦･個人戦ともに出場する選手は、個人戦の欄に○印を記入してください
G58: オーダー表の作成 | N58: 希望する | W58: 希望しない

Sheet 中学生男子(1)
F1: =申込み表紙!A1 -> 第７０回盛岡市民体育大会剣道競技
F2: 参加申込書
B4: 出場部門 | F4: 中学生男子 | J4: チーム名 | AB4: 監督
B7: ＜団体戦＞
AA9: 学 年 | AF9: 個人戦
B10: 先 鋒 | E10: ふりがな | M10: =PHONETIC(E11) | AL10: 1 | AM10: ○
AL11: 2
AL12: 3
B14: 次 鋒 | E14: ふりがな | M14: =PHONETIC(E15)
B18: 中 堅 | E18: ふりがな | M18: =PHONETIC(E19)
B22: 副 将 | E22: ふりがな | M22: =PHONETIC(E23)
B26: 大 将 | E26: ふりがな | M26: =PHONETIC(E27)
B30: 補 員 | E30: ふりがな | M30: =PHONETIC(E31)
B34: ※ 団体戦･個人戦ともに出場する選手は、個人戦の欄に○印を記入してください
B37: ＜個人戦のみ参加＞
B39: 部 門 | H39: 氏 名 | AF39: 学 年
B40: =F4 -> 中学生男子 | H40: ふりがな | Q40: =PHONETIC(H41)
H45: ふりがな | Q45: =PHONETIC(H46)
G52: オーダー表の作成 | N52: 希望する | W52: 希望しない

Sheet 中学生男子 (2)
F1: =申込み表紙!A1 -> 第７０回盛岡市民体育大会剣道競技
F2: 参加申込書
B4: 出場部門 | F4: 中学生男子 | J4: チーム名 | AB4: 監督
B7: ＜団体戦＞
AA9: 学 年 | AF9: 個人戦
B10: 先 鋒 | E10: ふりがな | M10: =PHONETIC(E11) | AL10: 1 | AM10: ○
AL11: 2
AL12: 3
B14: 次 鋒 | E14: ふりがな | M14: =PHONETIC(E15)
B18: 中 堅 | E18: ふりがな | M18: =PHONETIC(E19)
B22: 副 将 | E22: ふりがな | M22: =PHONETIC(E23)
B26: 大 将 | E26: ふりがな | M26: =PHONETIC(E27)
B30: 補 員 | E30: ふりがな | M30: =PHONETIC(E31)
B34: ※ 団体戦･個人戦ともに出場する選手は、個人戦の欄に○印を記入してください
G52: オーダー表の作成 | N52: 希望する | W52: 希望しない

Sheet 中学生女子 (1)
F1: =申込み表紙!A1 -> 第７０回盛岡市民体育大会剣道競技
F2: 参加申込書
B4: 出場部門 | F4: 中学生女子 | J4: チーム名 | AB4: 監督
B7: ＜団体戦＞
AA9: 学 年 | AF9: 個人戦
B10: 先 鋒 | E10: ふりがな | M10: =PHONETIC(E11) | AL10: 1 | AM10: ○
AL11: 2
AL12: 3
B14: 次 鋒 | E14: ふりがな | M14: =PHONETIC(E15)
B18: 中 堅 | E18: ふりがな | M18: =PHONETIC(E19)
B22: 副 将 | E22: ふりがな | M22: =PHONETIC(E23)
B26: 大 将 | E26: ふりがな | M26: =PHONETIC(E27)
B30: 補 員 | E30: ふりがな | M30: =PHONETIC(E31)
B34: ※ 団体戦･個人戦ともに出場する選手は、個人戦の欄に○印を記入してください
B37: ＜個人戦のみ参加＞
B39: 部 門 | H39: 氏 名 | AF39: 学 年
B40: =F4 -> 中学生女子 | H40: ふりがな | Q40: =PHONETIC(H41)
H45: ふりがな | Q45: =PHONETIC(H46)
G52: オーダー表の作成 | N52: 希望する | W52: 希望しない

Sheet 中学生女子 (2)
F1: =申込み表紙!A1 -> 第７０回盛岡市民体育大会剣道競技
F2: 参加申込書
B4: 出場部門 | F4: 中学生女子 | J4: チーム名 | AB4: 監督
B7: ＜団体戦＞
AA9: 学 年 | AF9: 個人戦
B10: 先 鋒 | E10: ふりがな | M10: =PHONETIC(E11) | AL10: 1 | AM10: ○
AL11: 2
AL12: 3
B14: 次 鋒 | E14: ふりがな | M14: =PHONETIC(E15)
B18: 中 堅 | E18: ふりがな | M18: =PHONETIC(E19)
B22: 副 将 | E22: ふりがな | M22: =PHONETIC(E23)
B26: 大 将 | E26: ふりがな | M26: =PHONETIC(E27)
B30: 補 員 | E30: ふりがな | M30: =PHONETIC(E31)
B34: ※ 団体戦･個人戦ともに出場する選手は、個人戦の欄に○印を記入してください
G52: オーダー表の作成 | N52: 希望する | W52: 希望しない

Sheet 高校生男子 (1)
F1: =申込み表紙!A1 -> 第７０回盛岡市民体育大会剣道競技
F2: 参加申込書
B4: 出場部門 | F4: 高校生男子 | J4: チーム名 | AB4: 監督
B7: ＜団体戦＞
AA9: 学 年 | AF9: 個人戦
B10: 先 鋒 | E10: ふりがな | M10: =PHONETIC(E11) | AL10: 1 | AM10: ○
AL11: 2
AL12: 3
B14: 次 鋒 | E14: ふりがな | M14: =PHONETIC(E15)
B18: 中 堅 | E18: ふりがな | M18: =PHONETIC(E19)
B22: 副 将 | E22: ふりがな | M22: =PHONETIC(E23)
B26: 大 将 | E26: ふりがな | M26: =PHONETIC(E27)
B30: 補 員 | E30: ふりがな | M30: =PHONETIC(E31)
B34: ※ 団体戦･個人戦ともに出場する選手は、個人戦の欄に○印を記入してください
B37: ＜個人戦のみ参加＞
B39: 部 門 | H39: 氏 名 | AF39: 学 年
B40: =F4 -> 高校生男子 | H40: ふりがな | Q40: =PHONETIC(H41)
H45: ふりがな | Q45: =PHONETIC(H46)
G52: オーダー表の作成 | N52: 希望する | W52: 希望しない

Sheet 高校生男子 (2)
F1: =申込み表紙!A1 -> 第７０回盛岡市民体育大会剣道競技
F2: 参加申込書
B4: 出場部門 | F4: 高校生男子 | J4: チーム名 | AB4: 監督
B7: ＜団体戦＞
AA9: 学 年 | AF9: 個人戦
B10: 先 鋒 | E10: ふりがな | M10: =PHONETIC(E11) | AL10: 1 | AM10: ○
AL11: 2
AL12: 3
B14: 次 鋒 | E14: ふりがな | M14: =PHONETIC(E15)
B18: 中 堅 | E18: ふりがな | M18: =PHONETIC(E19)
B22: 副 将 | E22: ふりがな | M22: =PHONETIC(E23)
B26: 大 将 | E26: ふりがな | M26: =PHONETIC(E27)
B30: 補 員 | E30: ふりがな | M30: =PHONETIC(E31)
B34: ※ 団体戦･個人戦ともに出場する選手は、個人戦の欄に○印を記入してください
G52: オーダー表の作成 | N52: 希望する | W52: 希望しない

Sheet 高校生女子 (1)
F1: =申込み表紙!A1 -> 第７０回盛岡市民体育大会剣道競技
F2: 参加申込書
B4: 出場部門 | F4: 高校生女子 | J4: チーム名 | AB4: 監督
B7: ＜団体戦＞
AA9: 学 年 | AF9: 個人戦
B10: 先 鋒 | E10: ふりがな | M10: =PHONETIC(E11) | AL10: 1 | AM10: ○
AL11: 2
AL12: 3
B14: 次 鋒 | E14: ふりがな | M14: =PHONETIC(E15)
B18: 中 堅 | E18: ふりがな | M18: =PHONETIC(E19)
B22: 副 将 | E22: ふりがな | M22: =PHONETIC(E23)
B26: 大 将 | E26: ふりがな | M26: =PHONETIC(E27)
B30: 補 員 | E30: ふりがな | M30: =PHONETIC(E31)
B34: ※ 団体戦･個人戦ともに出場する選手は、個人戦の欄に○印を記入してください
B37: ＜個人戦のみ参加＞
B39: 部 門 | H39: 氏 名 | AF39: 学 年
B40: =F4 -> 高校生女子 | H40: ふりがな | Q40: =PHONETIC(H41)
H45: ふりがな | Q45: =PHONETIC(H46)
G52: オーダー表の作成 | N52: 希望する | W52: 希望しない

Sheet 高校生女子 (2)
F1: =申込み表紙!A1 -> 第７０回盛岡市民体育大会剣道競技
F2: 参加申込書
B4: 出場部門 | F4: 高校生女子 | J4: チーム名 | AB4: 監督
B7: ＜団体戦＞
AA9: 学 年 | AF9: 個人戦
B10: 先 鋒 | E10: ふりがな | M10: =PHONETIC(E11) | AL10: 1 | AM10: ○
AL11: 2
AL12: 3
B14: 次 鋒 | E14: ふりがな | M14: =PHONETIC(E15)
B18: 中 堅 | E18: ふりがな | M18: =PHONETIC(E19)
B22: 副 将 | E22: ふりがな | M22: =PHONETIC(E23)
B26: 大 将 | E26: ふりがな | M26: =PHONETIC(E27)
B30: 補 員 | E30: ふりがな | M30: =PHONETIC(E31)
B34: ※ 団体戦･個人戦ともに出場する選手は、個人戦の欄に○印を記入してください
G52: オーダー表の作成 | N52: 希望する | W52: 希望しない

Sheet 一般男子 (1)
F1: =申込み表紙!A1 -> 第７０回盛岡市民体育大会剣道競技
F2: 参加申込書
B4: 出場部門 | F4: 一般男子 | J4: チーム名 | AB4: 監督
B7: ＜団体戦＞
AF9: 個人戦
B10: 先 鋒 | E10: ふりがな | M10: =PHONETIC(E11) | AL10: 1 | AM10: ○
AL11: 2
AL12: 3
B14: 次 鋒 | E14: ふりがな | M14: =PHONETIC(E15)
B18: 中 堅 | E18: ふりがな | M18: =PHONETIC(E19)
B22: 副 将 | E22: ふりがな | M22: =PHONETIC(E23)
B26: 大 将 | E26: ふりがな | M26: =PHONETIC(E27)
B30: 補 員 | E30: ふりがな | M30: =PHONETIC(E31)
B34: ※ 団体戦･個人戦ともに出場する選手は、個人戦の欄に○印を記入してください
B37: ＜個人戦のみ参加＞
B39: 部 門 | H39: 氏 名 | AF39: 学 年
B40: =F4 -> 一般男子 | H40: ふりがな | Q40: =PHONETIC(H41)
H45: ふりがな | Q45: =PHONETIC(H46)
G52: オーダー表の作成 | N52: 希望する | W52: 希望しない

Sheet 一般男子 (2)
F1: =申込み表紙!A1 -> 第７０回盛岡市民体育大会剣道競技
F2: 参加申込書
B4: 出場部門 | F4: 一般男子 | J4: チーム名 | AB4: 監督
B7: ＜団体戦＞
AF9: 個人戦
B10: 先 鋒 | E10: ふりがな | M10: =PHONETIC(E11) | AL10: 1 | AM10: ○
AL11: 2
AL12: 3
B14: 次 鋒 | E14: ふりがな | M14: =PHONETIC(E15)
B18: 中 堅 | E18: ふりがな | M18: =PHONETIC(E19)
B22: 副 将 | E22: ふりがな | M22: =PHONETIC(E23)
B26: 大 将 | E26: ふりがな | M26: =PHONETIC(E27)
B30: 補 員 | E30: ふりがな | M30: =PHONETIC(E31)
B34: ※ 団体戦･個人戦ともに出場する選手は、個人戦の欄に○印を記入してください
G52: オーダー表の作成 | N52: 希望する | W52: 希望しない

Sheet 一般女子 (1)
F1: =申込み表紙!A1 -> 第７０回盛岡市民体育大会剣道競技
F2: 参加申込書
B4: 出場部門 | F4: 一般女子 | J4: チーム名 | AB4: 監督
B7: ＜団体戦＞
AF9: 個人戦
B10: 先 鋒 | E10: ふりがな | M10: =PHONETIC(E11) | AL10: 1 | AM10: ○
AL11: 2
AL12: 3
B14: 次 鋒 | E14: ふりがな | M14: =PHONETIC(E15)
B18: 中 堅 | E18: ふりがな | M18: =PHONETIC(E19)
B22: 副 将 | E22: ふりがな | M22: =PHONETIC(E23)
B26: 大 将 | E26: ふりがな | M26: =PHONETIC(E27)
B30: 補 員 | E30: ふりがな | M30: =PHONETIC(E31)
B34: ※ 団体戦･個人戦ともに出場する選手は、個人戦の欄に○印を記入してください
B37: ＜個人戦のみ参加＞
B39: 部 門 | H39: 氏 名
B40: =F4 -> 一般女子 | H40: ふりがな | Q40: =PHONETIC(H41)
H45: ふりがな | Q45: =PHONETIC(H46)
G52: オーダー表の作成 | N52: 希望する | W52: 希望しない

Sheet 一般女子 (2)
F1: =申込み表紙!A1 -> 第７０回盛岡市民体育大会剣道競技
F2: 参加申込書
B4: 出場部門 | F4: 一般女子 | J4: チーム名 | AB4: 監督
B7: ＜団体戦＞
AF9: 個人戦
B10: 先 鋒 | E10: ふりがな | M10: =PHONETIC(E11) | AL10: 1 | AM10: ○
AL11: 2
AL12: 3
B14: 次 鋒 | E14: ふりがな | M14: =PHONETIC(E15)
B18: 中 堅 | E18: ふりがな | M18: =PHONETIC(E19)
B22: 副 将 | E22: ふりがな | M22: =PHONETIC(E23)
B26: 大 将 | E26: ふりがな | M26: =PHONETIC(E27)
B30: 補 員 | E30: ふりがな | M30: =PHONETIC(E31)
B34: ※ 団体戦･個人戦ともに出場する選手は、個人戦の欄に○印を記入してください
G52: オーダー表の作成 | N52: 希望する | W52: 希望しない
